BEGIN:VCALENDAR
VERSION:2.0
PRODID:FareHarbor Calendar 10.4.180
X-WR-CALNAME;VALUE=TEXT:Buddha's Cup Coffee Calendar
X-WR-RELCALID;VALUE=TEXT:fh-buddhascup-all


BEGIN:VEVENT
SEQUENCE:1776799406
UID:https://fareharbor.com/api/v1/companies/buddhascup/items/441291/availabilities/1909589239/
DTSTART:20260414T210000Z
DTEND:20260414T220000Z
CREATED:20251120T020216Z
LAST-MODIFIED:20260421T192326Z
SUMMARY:Deluxe Tour ( booking: 2 Adults)
LOCATION:
URL:https://fareharbor.com/buddhascup/dashboard/bookings/?overlay=/items/441291/availabilities/1909589239/
DESCRIPTION:BOOKING #343274737\n Demetrius DiStefano\n +1 707-845-1016\n S-31bd71dee13f4def9a26e5402460bb5c+1383966189-3095r0amfwup5@expmessaging.tripadvisor.com\n \n Total: $207.32\n Due: $0.00\n \n #### Customers:\nDemetrius DiStefano, Layla DiStefano\n#### Special Requirements:\nMy wife has a problem with her leg and is limited on walking and balance. She uses a cane and can get around slowly for fairly short distances, around 500ft unaided. We are coming to you because of the ATV mobility you offer. Thank you for your help and please reach out if you have questions\n\n\n 2 Adults\n Comments: My wife has a problem with her leg and is limited on walking and balance. She uses a cane and can get around slowly for fairly short distances, around 500ft unaided. We are coming to you because of the ATV mobility you offer. Thank you for your help and please reach out if you have questions \n ----------\n
END:VEVENT

BEGIN:VEVENT
SEQUENCE:1776799406
UID:https://fareharbor.com/api/v1/companies/buddhascup/items/441291/availabilities/1909589253/
DTSTART:20260414T230000Z
DTEND:20260415T000000Z
CREATED:20251120T020216Z
LAST-MODIFIED:20260421T192326Z
SUMMARY:Deluxe Tour ( booking: 2 Adults)
LOCATION:
URL:https://fareharbor.com/buddhascup/dashboard/bookings/?overlay=/items/441291/availabilities/1909589253/
DESCRIPTION:BOOKING #343593288\n Carly Covello\n +1 209-986-4543\n imcarlyc@gmail.com\n \n Total: $207.32\n Due: $0.00\n \n 2 Adults\n ----------\n
END:VEVENT

BEGIN:VEVENT
SEQUENCE:1776799406
UID:https://fareharbor.com/api/v1/companies/buddhascup/items/441285/availabilities/1909585865/
DTSTART:20260415T000000Z
DTEND:20260415T003000Z
CREATED:20251120T015223Z
LAST-MODIFIED:20260421T192326Z
SUMMARY:Express Tour ( booking: 2 Adults, 1 Kid)
LOCATION:
URL:https://fareharbor.com/buddhascup/dashboard/bookings/?overlay=/items/441285/availabilities/1909585865/
DESCRIPTION:BOOKING #339005042\n Stephan Jagau\n +1 725-306-7267\n stephan@jagau.com\n \n Total: $125.66\n Due: $0.00\n \n 2 Adults, 1 Kid\n How did you hear about us?: Google \n ----------\n
END:VEVENT

BEGIN:VEVENT
SEQUENCE:1776799406
UID:https://fareharbor.com/api/v1/companies/buddhascup/items/441284/availabilities/1909592548/
DTSTART:20260415T000000Z
DTEND:20260415T004012Z
CREATED:20251120T021418Z
LAST-MODIFIED:20260421T192326Z
SUMMARY:Deluxe Tasting ( booking: 2 Adults)
LOCATION:
URL:https://fareharbor.com/buddhascup/dashboard/bookings/?overlay=/items/441284/availabilities/1909592548/
DESCRIPTION:BOOKING #343593290\n Carly Covello\n +1 209-986-4543\n imcarlyc@gmail.com\n \n Total: $63.66\n Due: $0.00\n \n 2 Adults\n ----------\n
END:VEVENT

BEGIN:VEVENT
SEQUENCE:1776799406
UID:https://fareharbor.com/api/v1/companies/buddhascup/items/441284/availabilities/1909592563/
DTSTART:20260415T200000Z
DTEND:20260415T204012Z
CREATED:20251120T021418Z
LAST-MODIFIED:20260421T192326Z
SUMMARY:Deluxe Tasting ( booking: 2 Adults)
LOCATION:
URL:https://fareharbor.com/buddhascup/dashboard/bookings/?overlay=/items/441284/availabilities/1909592563/
DESCRIPTION:BOOKING #343571639\n DENGYU ZHANG\n +1 551-280-6216\n jasonzhangdengyu@gmail.com\n \n Total: $79.58\n Due: $0.00\n \n 2 Adults\n How did you hear about us?: Friend \n ----------\n
END:VEVENT

BEGIN:VEVENT
SEQUENCE:1776799406
UID:https://fareharbor.com/api/v1/companies/buddhascup/items/441291/availabilities/1909589439/
DTSTART:20260415T200000Z
DTEND:20260415T210000Z
CREATED:20251120T020217Z
LAST-MODIFIED:20260421T192326Z
SUMMARY:Deluxe Tour ( booking: 4 Adults)
LOCATION:
URL:https://fareharbor.com/buddhascup/dashboard/bookings/?overlay=/items/441291/availabilities/1909589439/
DESCRIPTION:BOOKING #343571475\n Savannah Wilson\n +1 804-712-5770\n savannahwilson9821@gmail.com\n \n Total: $207.32\n Due: $0.00\n \n 2 Adults\n ----------\n BOOKING #342075844\n Nivedhita Venkatesh\n +1 510-767-9629\n nivedhitavenkatesh2456@gmail.com\n \n Total: $207.32\n Due: $0.00\n \n 2 Adults\n How did you hear about us?: Friend \n ----------\n
END:VEVENT

BEGIN:VEVENT
SEQUENCE:1776799406
UID:https://fareharbor.com/api/v1/companies/buddhascup/items/712995/availabilities/2037368112/
DTSTART:20260415T203000Z
DTEND:20260415T205024Z
CREATED:20260313T162952Z
LAST-MODIFIED:20260421T192326Z
SUMMARY:Self-Guided Tour ( booking: 5 Adults, 1 Child)
LOCATION:
URL:https://fareharbor.com/buddhascup/dashboard/bookings/?overlay=/items/712995/availabilities/2037368112/
DESCRIPTION:BOOKING #343453417\n Catherine Derison\n +1 661-478-9729\n Redmomcmd@gmail.com\n \n Total: $0.00\n Due: $0.00\n \n 2 Adults\n ----------\n BOOKING #341684184\n Sriram Venkatesh\n +1 858-729-4032\n sriramv2006@gmail.com\n \n Total: $0.00\n Due: $0.00\n \n 3 Adults, 1 Child\n ----------\n
END:VEVENT

BEGIN:VEVENT
SEQUENCE:1776799406
UID:https://fareharbor.com/api/v1/companies/buddhascup/items/441285/availabilities/1909586232/
DTSTART:20260415T220000Z
DTEND:20260415T223000Z
CREATED:20251120T015226Z
LAST-MODIFIED:20260421T192326Z
SUMMARY:Express Tour ( booking: 2 Adults, 1 Child, 1 Kid)
LOCATION:
URL:https://fareharbor.com/buddhascup/dashboard/bookings/?overlay=/items/441285/availabilities/1909586232/
DESCRIPTION:BOOKING #343960989\n nAGESH kUPPAHALLY\n \n Total: $157.07\n Due: $157.07\n \n 2 Adults, 1 Child, 1 Kid\n ----------\n
END:VEVENT

BEGIN:VEVENT
SEQUENCE:1776799406
UID:https://fareharbor.com/api/v1/companies/buddhascup/items/712995/availabilities/2037368119/
DTSTART:20260415T223000Z
DTEND:20260415T225024Z
CREATED:20260313T162952Z
LAST-MODIFIED:20260421T192326Z
SUMMARY:Self-Guided Tour ( booking: 6 Adults)
LOCATION:
URL:https://fareharbor.com/buddhascup/dashboard/bookings/?overlay=/items/712995/availabilities/2037368119/
DESCRIPTION:BOOKING #338826625\n Sasha Lamot\n +1 341-766-8730\n sashalamot@gmail.com\n \n Total: $0.00\n Due: $0.00\n \n 6 Adults\n ----------\n
END:VEVENT

BEGIN:VEVENT
SEQUENCE:1776799406
UID:https://fareharbor.com/api/v1/companies/buddhascup/items/441291/availabilities/1909589656/
DTSTART:20260416T210000Z
DTEND:20260416T220000Z
CREATED:20251120T020218Z
LAST-MODIFIED:20260421T192326Z
SUMMARY:Deluxe Tour ( booking: 2 Adults)
LOCATION:
URL:https://fareharbor.com/buddhascup/dashboard/bookings/?overlay=/items/441291/availabilities/1909589656/
DESCRIPTION:BOOKING #344093924\n Cristen Wilson\n +1 818-445-7207\n davrosgirl@gmail.com\n \n Total: $207.32\n Due: $0.00\n \n 2 Adults\n How did you hear about us?: Google \n ----------\n
END:VEVENT

BEGIN:VEVENT
SEQUENCE:1776799406
UID:https://fareharbor.com/api/v1/companies/buddhascup/items/441284/availabilities/1911739894/
DTSTART:20260417T210000Z
DTEND:20260417T214012Z
CREATED:20251121T185530Z
LAST-MODIFIED:20260421T192326Z
SUMMARY:Deluxe Tasting ( booking: 3 Adults)
LOCATION:
URL:https://fareharbor.com/buddhascup/dashboard/bookings/?overlay=/items/441284/availabilities/1911739894/
DESCRIPTION:BOOKING #344121938\n Rob Anderson\n +1 250-317-3638\n futlog@shaw.ca\n \n Total: $136.47\n Due: $0.00\n \n 3 Adults\n Comments: Hi one of us is a tea drinker can she have tea while there? Do you have flights of tea? ok thanks \n How did you hear about us?: Word of mouth \n Gratuity: 15% \n ----------\n
END:VEVENT

BEGIN:VEVENT
SEQUENCE:1776799406
UID:https://fareharbor.com/api/v1/companies/buddhascup/items/712995/availabilities/2037368163/
DTSTART:20260418T003000Z
DTEND:20260418T005024Z
CREATED:20260313T162952Z
LAST-MODIFIED:20260421T192326Z
SUMMARY:Self-Guided Tour ( booking: 4 Adults)
LOCATION:
URL:https://fareharbor.com/buddhascup/dashboard/bookings/?overlay=/items/712995/availabilities/2037368163/
DESCRIPTION:BOOKING #342342103\n Ching Lee\n +1 415-769-8671\n lc_cherry@ymail.com\n \n Total: $0.00\n Due: $0.00\n \n 4 Adults\n ----------\n
END:VEVENT

BEGIN:VEVENT
SEQUENCE:1776799406
UID:https://fareharbor.com/api/v1/companies/buddhascup/items/441291/availabilities/1909589287/
DTSTART:20260421T220000Z
DTEND:20260421T230000Z
CREATED:20251120T020216Z
LAST-MODIFIED:20260421T192326Z
SUMMARY:Deluxe Tour ( booking: 2 Adults)
LOCATION:
URL:https://fareharbor.com/buddhascup/dashboard/bookings/?overlay=/items/441291/availabilities/1909589287/
DESCRIPTION:BOOKING #344324622\n Walt Hoffman\n +1 626-497-9728\n themepark@mac.com\n \n Total: $207.32\n Due: $0.00\n \n Redeam Booking ID: '5c3e5bdb-4c2e-4cf3-bd84-dc55cdf2030f'\n\n 2 Adults\n ----------\n
END:VEVENT

BEGIN:VEVENT
SEQUENCE:1776799406
UID:https://fareharbor.com/api/v1/companies/buddhascup/items/441285/availabilities/1909586278/
DTSTART:20260422T200000Z
DTEND:20260422T203000Z
CREATED:20251120T015226Z
LAST-MODIFIED:20260421T192326Z
SUMMARY:Express Tour ( booking: 4 Adults)
LOCATION:
URL:https://fareharbor.com/buddhascup/dashboard/bookings/?overlay=/items/441285/availabilities/1909586278/
DESCRIPTION:BOOKING #343315581\n Kathy Wetzel\n +1 225-305-4879\n kathywwcoastal@aol.com\n \n Total: $239.44\n Due: $0.00\n \n 4 Adults\n How did you hear about us?: Word of mouth \n Gratuity: 20% \n ----------\n
END:VEVENT

BEGIN:VEVENT
SEQUENCE:1776799406
UID:https://fareharbor.com/api/v1/companies/buddhascup/items/441284/availabilities/1909592687/
DTSTART:20260422T210000Z
DTEND:20260422T214012Z
CREATED:20251120T021418Z
LAST-MODIFIED:20260421T192326Z
SUMMARY:Deluxe Tasting ( booking: 4 Adults)
LOCATION:
URL:https://fareharbor.com/buddhascup/dashboard/bookings/?overlay=/items/441284/availabilities/1909592687/
DESCRIPTION:BOOKING #343315580\n Kathy Wetzel\n +1 225-305-4879\n kathywwcoastal@aol.com\n \n Total: $189.56\n Due: $0.00\n \n 4 Adults\n How did you hear about us?: Word of mouth \n Gratuity: 20% \n ----------\n
END:VEVENT

BEGIN:VEVENT
SEQUENCE:1776799406
UID:https://fareharbor.com/api/v1/companies/buddhascup/items/712995/availabilities/2037368216/
DTSTART:20260425T003000Z
DTEND:20260425T005024Z
CREATED:20260313T162952Z
LAST-MODIFIED:20260421T192326Z
SUMMARY:Self-Guided Tour ( booking: 3 Adults)
LOCATION:
URL:https://fareharbor.com/buddhascup/dashboard/bookings/?overlay=/items/712995/availabilities/2037368216/
DESCRIPTION:BOOKING #342198483\n Bailey Wallace\n +1 719-963-7142\n baileykwallace@gmail.com\n \n Total: $0.00\n Due: $0.00\n \n 3 Adults\n ----------\n
END:VEVENT

BEGIN:VEVENT
SEQUENCE:1776799406
UID:https://fareharbor.com/api/v1/companies/buddhascup/items/441291/availabilities/1909590133/
DTSTART:20260427T200000Z
DTEND:20260427T210000Z
CREATED:20251120T020221Z
LAST-MODIFIED:20260421T192326Z
SUMMARY:Deluxe Tour ( booking: 3 Adults)
LOCATION:
URL:https://fareharbor.com/buddhascup/dashboard/bookings/?overlay=/items/441291/availabilities/1909590133/
DESCRIPTION:BOOKING #340368366\n Christie McCarley\n +1 706-936-0122\n calhoun8b@hotmail.com\n \n Total: $279.88\n Due: $279.88\n \n Guests will be paying separately upon arrival. Please extend Kama'aina discount and comp 1 deluxe tasting for Christie(Repeat guest). -SL\n\n 3 Adults\n ----------\n
END:VEVENT

BEGIN:VEVENT
SEQUENCE:1776799406
UID:https://fareharbor.com/api/v1/companies/buddhascup/items/441284/availabilities/1909592495/
DTSTART:20260429T200000Z
DTEND:20260429T204012Z
CREATED:20251120T021418Z
LAST-MODIFIED:20260421T192326Z
SUMMARY:Deluxe Tasting ( booking: 6 Adults)
LOCATION:
URL:https://fareharbor.com/buddhascup/dashboard/bookings/?overlay=/items/441284/availabilities/1909592495/
DESCRIPTION:BOOKING #342198709\n Jeffrey D Newkirk\n +1 804-513-6242\n jeffnkirk@gmail.com\n \n Total: $79.58\n Due: $0.00\n \n 2 Adults\n ----------\n BOOKING #341850533\n Renee Furrow\n +1 925-899-3896\n reneefurrow@aol.com\n \n Total: $159.16\n Due: $0.00\n \n Guest coming in at 10:30a. 2 coffee/2 tea -SL\n\n 4 Adults\n How did you hear about us?: Other \n ----------\n
END:VEVENT

BEGIN:VEVENT
SEQUENCE:1776799406
UID:https://fareharbor.com/api/v1/companies/buddhascup/items/441284/availabilities/1909592514/
DTSTART:20260429T210000Z
DTEND:20260429T214012Z
CREATED:20251120T021418Z
LAST-MODIFIED:20260421T192326Z
SUMMARY:Deluxe Tasting ( booking: 4 Adults)
LOCATION:
URL:https://fareharbor.com/buddhascup/dashboard/bookings/?overlay=/items/441284/availabilities/1909592514/
DESCRIPTION:BOOKING #337211491\n Cindy Hochhalter\n +1 717-683-2704\n S-31bd71dee13f4def9a26e5402460bb5c+1370656443-3sfliy0navnjc@expmessaging.tripadvisor.com\n \n Total: $159.16\n Due: $0.00\n \n #### Customers:\nCindy Hochhalter, Steve Becker, Charles Bosley, Janice Bosley\n\n\n 4 Adults\n ----------\n
END:VEVENT

BEGIN:VEVENT
SEQUENCE:1776799406
UID:https://fareharbor.com/api/v1/companies/buddhascup/items/441291/availabilities/1909589360/
DTSTART:20260501T220000Z
DTEND:20260501T230000Z
CREATED:20251120T020217Z
LAST-MODIFIED:20260421T192326Z
SUMMARY:Deluxe Tour ( booking: 2 Adults)
LOCATION:
URL:https://fareharbor.com/buddhascup/dashboard/bookings/?overlay=/items/441291/availabilities/1909589360/
DESCRIPTION:BOOKING #342207564\n Margarita Assetianova\n +1 925-586-1284\n raa1982@yahoo.com\n \n Total: $207.32\n Due: $0.00\n \n 2 Adults\n How did you hear about us?: Google \n ----------\n
END:VEVENT

BEGIN:VEVENT
SEQUENCE:1776799406
UID:https://fareharbor.com/api/v1/companies/buddhascup/items/441291/availabilities/1909589675/
DTSTART:20260504T200000Z
DTEND:20260504T210000Z
CREATED:20251120T020219Z
LAST-MODIFIED:20260421T192326Z
SUMMARY:Deluxe Tour ( booking: 2 Adults)
LOCATION:
URL:https://fareharbor.com/buddhascup/dashboard/bookings/?overlay=/items/441291/availabilities/1909589675/
DESCRIPTION:BOOKING #343149975\n Kowshik Venkatesh\n +1 682-552-6544\n pvkowshik@gmail.com\n \n Total: $165.86\n Due: $0.00\n \n 2 Adults\n ----------\n
END:VEVENT

BEGIN:VEVENT
SEQUENCE:1776799406
UID:https://fareharbor.com/api/v1/companies/buddhascup/items/441300/availabilities/1909591329/
DTSTART:20260504T200000Z
DTEND:20260504T220000Z
CREATED:20251120T020530Z
LAST-MODIFIED:20260421T192326Z
SUMMARY:VIP Owner Guided Tour ( booking: 4 Adults)
LOCATION:
URL:https://fareharbor.com/buddhascup/dashboard/bookings/?overlay=/items/441300/availabilities/1909591329/
DESCRIPTION:BOOKING #341542374\n Rod Schmalhaus\n +1 303-868-7345\n rsjmventures@yahoo.com\n \n Total: $795.80\n Due: $0.00\n \n 4 Adults\n ----------\n
END:VEVENT

BEGIN:VEVENT
SEQUENCE:1776799406
UID:https://fareharbor.com/api/v1/companies/buddhascup/items/441284/availabilities/1909592562/
DTSTART:20260504T210000Z
DTEND:20260504T214012Z
CREATED:20251120T021418Z
LAST-MODIFIED:20260421T192326Z
SUMMARY:Deluxe Tasting ( booking: 2 Adults)
LOCATION:
URL:https://fareharbor.com/buddhascup/dashboard/bookings/?overlay=/items/441284/availabilities/1909592562/
DESCRIPTION:BOOKING #343149973\n Kowshik Venkatesh\n +1 682-552-6544\n pvkowshik@gmail.com\n \n Total: $79.58\n Due: $0.00\n \n 2 Adults\n ----------\n
END:VEVENT

BEGIN:VEVENT
SEQUENCE:1776799406
UID:https://fareharbor.com/api/v1/companies/buddhascup/items/441300/availabilities/1909591462/
DTSTART:20260506T230000Z
DTEND:20260507T010000Z
CREATED:20251120T020531Z
LAST-MODIFIED:20260421T192326Z
SUMMARY:VIP Owner Guided Tour ( booking: 2 Adults)
LOCATION:
URL:https://fareharbor.com/buddhascup/dashboard/bookings/?overlay=/items/441300/availabilities/1909591462/
DESCRIPTION:BOOKING #342575120\n Darryl Anderson\n +1 256-990-5296\n R.Darryl.Anderson@gmail.com\n \n Total: $397.90\n Due: $0.00\n \n 2 Adults\n How did you hear about us?: Google \n ----------\n
END:VEVENT

BEGIN:VEVENT
SEQUENCE:1776799406
UID:https://fareharbor.com/api/v1/companies/buddhascup/items/441284/availabilities/1911739900/
DTSTART:20260508T200000Z
DTEND:20260508T204012Z
CREATED:20251121T185530Z
LAST-MODIFIED:20260421T192326Z
SUMMARY:Deluxe Tasting ( booking: 2 Adults)
LOCATION:
URL:https://fareharbor.com/buddhascup/dashboard/bookings/?overlay=/items/441284/availabilities/1911739900/
DESCRIPTION:BOOKING #330808883\n Melissa Noland\n +1 605-941-0341\n S-31bd71dee13f4def9a26e5402460bb5c+1355958119-2cod4mwnd4f3c@expmessaging.tripadvisor.com\n \n Total: $62.82\n Due: $0.00\n \n #### Customers:\nMelissa Noland, Sharon Noland\n\n\n 2 Adults\n ----------\n
END:VEVENT

BEGIN:VEVENT
SEQUENCE:1776799406
UID:https://fareharbor.com/api/v1/companies/buddhascup/items/441291/availabilities/1909589394/
DTSTART:20260508T210000Z
DTEND:20260508T220000Z
CREATED:20251120T020217Z
LAST-MODIFIED:20260421T192326Z
SUMMARY:Deluxe Tour ( booking: 2 Adults)
LOCATION:
URL:https://fareharbor.com/buddhascup/dashboard/bookings/?overlay=/items/441291/availabilities/1909589394/
DESCRIPTION:BOOKING #330373045\n Karen M Wilmshurst\n +1 310-508-8564\n mirajosh@aol.com\n \n Total: $188.48\n Due: $0.00\n \n 2 Adults\n How did you hear about us?: Google \n ----------\n
END:VEVENT

BEGIN:VEVENT
SEQUENCE:1776799406
UID:https://fareharbor.com/api/v1/companies/buddhascup/items/441284/availabilities/1911740003/
DTSTART:20260515T210000Z
DTEND:20260515T214012Z
CREATED:20251121T185530Z
LAST-MODIFIED:20260421T192326Z
SUMMARY:Deluxe Tasting ( booking: 2 Adults)
LOCATION:
URL:https://fareharbor.com/buddhascup/dashboard/bookings/?overlay=/items/441284/availabilities/1911740003/
DESCRIPTION:BOOKING #328274979\n William Silberstein\n +1 914-414-5499\n silberstein75+buddhacup@gmail.com\n \n Total: $62.82\n Due: $0.00\n \n 2 Adults\n How did you hear about us?: Google \n ----------\n
END:VEVENT

BEGIN:VEVENT
SEQUENCE:1776799406
UID:https://fareharbor.com/api/v1/companies/buddhascup/items/441300/availabilities/1909591360/
DTSTART:20260518T200000Z
DTEND:20260518T220000Z
CREATED:20251120T020530Z
LAST-MODIFIED:20260421T192326Z
SUMMARY:VIP Owner Guided Tour ( booking: 7 Adults)
LOCATION:
URL:https://fareharbor.com/buddhascup/dashboard/bookings/?overlay=/items/441300/availabilities/1909591360/
DESCRIPTION:BOOKING #342057446\n Charlie Killebrew\n +1 336-479-5348\n charl1e1996@aim.com\n \n Total: $1,392.65\n Due: $0.00\n \n 7 Adults\n Comments: Looking forward to the tour! Matt (in the group) has been before and said it’s a must-do for our group \n How did you hear about us?: Friend \n ----------\n
END:VEVENT

BEGIN:VEVENT
SEQUENCE:1776799406
UID:https://fareharbor.com/api/v1/companies/buddhascup/items/441285/availabilities/1909587160/
DTSTART:20260519T203000Z
DTEND:20260519T210000Z
CREATED:20251120T015231Z
LAST-MODIFIED:20260421T192326Z
SUMMARY:Express Tour ( booking: 4 Adults)
LOCATION:
URL:https://fareharbor.com/buddhascup/dashboard/bookings/?overlay=/items/441285/availabilities/1909587160/
DESCRIPTION:BOOKING #342031830\n Stella Wiesemann\n +1 202-492-0487\n stella.wiesemann@gmail.com\n \n Total: $287.32\n Due: $0.00\n \n 4 Adults\n How did you hear about us?: Internet search \n Gratuity: 15% \n ----------\n
END:VEVENT

BEGIN:VEVENT
SEQUENCE:1776799406
UID:https://fareharbor.com/api/v1/companies/buddhascup/items/441284/availabilities/1909592804/
DTSTART:20260519T210000Z
DTEND:20260519T214012Z
CREATED:20251120T021418Z
LAST-MODIFIED:20260421T192326Z
SUMMARY:Deluxe Tasting ( booking: 4 Adults)
LOCATION:
URL:https://fareharbor.com/buddhascup/dashboard/bookings/?overlay=/items/441284/availabilities/1909592804/
DESCRIPTION:BOOKING #342031831\n Stella Wiesemann\n +1 202-492-0487\n stella.wiesemann@gmail.com\n \n Total: $145.56\n Due: $0.00\n \n 4 Adults\n How did you hear about us?: Internet search \n Gratuity: 15% \n ----------\n
END:VEVENT

BEGIN:VEVENT
SEQUENCE:1776799406
UID:https://fareharbor.com/api/v1/companies/buddhascup/items/441291/availabilities/1909590098/
DTSTART:20260520T200000Z
DTEND:20260520T210000Z
CREATED:20251120T020221Z
LAST-MODIFIED:20260421T192326Z
SUMMARY:Deluxe Tour ( booking: 4 Adults)
LOCATION:
URL:https://fareharbor.com/buddhascup/dashboard/bookings/?overlay=/items/441291/availabilities/1909590098/
DESCRIPTION:BOOKING #343270826\n Jason berkey\n +1 480-584-9368\n jberkey13@gmail.com\n \n Total: $414.64\n Due: $0.00\n \n 4 Adults\n How did you hear about us?: Google \n ----------\n
END:VEVENT

BEGIN:VEVENT
SEQUENCE:1776799406
UID:https://fareharbor.com/api/v1/companies/buddhascup/items/441284/availabilities/1909592619/
DTSTART:20260520T210000Z
DTEND:20260520T214012Z
CREATED:20251120T021418Z
LAST-MODIFIED:20260421T192326Z
SUMMARY:Deluxe Tasting ( booking: 4 Adults)
LOCATION:
URL:https://fareharbor.com/buddhascup/dashboard/bookings/?overlay=/items/441284/availabilities/1909592619/
DESCRIPTION:BOOKING #344810058\n Jason berkey\n +1 480-584-9368\n jberkey13@gmail.com\n \n Total: $159.16\n Due: $31.84\n \n 4 Adults\n How did you hear about us?: Google \n ----------\n
END:VEVENT

BEGIN:VEVENT
SEQUENCE:1776799406
UID:https://fareharbor.com/api/v1/companies/buddhascup/items/441291/availabilities/1909589821/
DTSTART:20260525T230000Z
DTEND:20260526T000000Z
CREATED:20251120T020219Z
LAST-MODIFIED:20260421T192326Z
SUMMARY:Deluxe Tour ( booking: 1 Adult)
LOCATION:
URL:https://fareharbor.com/buddhascup/dashboard/bookings/?overlay=/items/441291/availabilities/1909589821/
DESCRIPTION:BOOKING #344016234\n Rachel Sears\n +1 240-566-2725\n rachel.j.sears@gmail.com\n \n Total: $103.66\n Due: $0.00\n \n 1 Adult\n How did you hear about us?: Internet search \n ----------\n
END:VEVENT

BEGIN:VEVENT
SEQUENCE:1776799406
UID:https://fareharbor.com/api/v1/companies/buddhascup/items/441285/availabilities/1909587564/
DTSTART:20260527T230000Z
DTEND:20260527T233000Z
CREATED:20251120T015234Z
LAST-MODIFIED:20260421T192326Z
SUMMARY:Express Tour ( booking: 2 Adults, 3 Children)
LOCATION:
URL:https://fareharbor.com/buddhascup/dashboard/bookings/?overlay=/items/441285/availabilities/1909587564/
DESCRIPTION:BOOKING #328868232\n KIRSTEN WILLIAMSON\n +1 443-878-2965\n KIRSTEN.A.WILLIAMSON@gmail.com\n \n Total: $219.89\n Due: $0.00\n \n 2 Adults, 3 Children\n ----------\n
END:VEVENT

BEGIN:VEVENT
SEQUENCE:1776799406
UID:https://fareharbor.com/api/v1/companies/buddhascup/items/441284/availabilities/1909592731/
DTSTART:20260528T000000Z
DTEND:20260528T004012Z
CREATED:20251120T021418Z
LAST-MODIFIED:20260421T192326Z
SUMMARY:Deluxe Tasting ( booking: 2 Adults)
LOCATION:
URL:https://fareharbor.com/buddhascup/dashboard/bookings/?overlay=/items/441284/availabilities/1909592731/
DESCRIPTION:BOOKING #328868234\n KIRSTEN WILLIAMSON\n +1 443-878-2965\n KIRSTEN.A.WILLIAMSON@gmail.com\n \n Total: $50.26\n Due: $0.00\n \n 2 Adults\n ----------\n
END:VEVENT

BEGIN:VEVENT
SEQUENCE:1776799406
UID:https://fareharbor.com/api/v1/companies/buddhascup/items/441291/availabilities/1909589525/
DTSTART:20260529T230000Z
DTEND:20260530T000000Z
CREATED:20251120T020218Z
LAST-MODIFIED:20260421T192326Z
SUMMARY:Deluxe Tour ( booking: 2 Adults)
LOCATION:
URL:https://fareharbor.com/buddhascup/dashboard/bookings/?overlay=/items/441291/availabilities/1909589525/
DESCRIPTION:BOOKING #336723833\n Kirk McGee\n +1 208-720-9671\n hortman30@gmail.com\n \n Total: $207.32\n Due: $0.00\n \n 2 Adults\n Comments: Our first visit to the Big Island for my wife's birthday! Our first coffee farm tour! \n How did you hear about us?: Google \n ----------\n
END:VEVENT

BEGIN:VEVENT
SEQUENCE:1776799406
UID:https://fareharbor.com/api/v1/companies/buddhascup/items/441291/availabilities/1909589532/
DTSTART:20260530T000000Z
DTEND:20260530T010000Z
CREATED:20251120T020218Z
LAST-MODIFIED:20260421T192326Z
SUMMARY:Deluxe Tour ( booking: 2 Adults)
LOCATION:
URL:https://fareharbor.com/buddhascup/dashboard/bookings/?overlay=/items/441291/availabilities/1909589532/
DESCRIPTION:BOOKING #340410044\n ANDREW HALSEY\n 776673197\n ajhalsey@gmail.com\n \n Total: $207.32\n Due: $0.00\n \n 2 Adults\n How did you hear about us?: Internet search \n ----------\n
END:VEVENT


END:VCALENDAR
