BEGIN:VCALENDAR
VERSION:2.0
PRODID:FareHarbor Calendar 10.4.180
X-WR-CALNAME;VALUE=TEXT:Booze Cruise Calendar
X-WR-RELCALID;VALUE=TEXT:fh-harborviewcharters-Booze Cruise


BEGIN:VEVENT
SEQUENCE:1776747216
UID:https://fareharbor.com/api/v1/companies/harborviewcharters/items/303295/availabilities/1958051359/
DTSTART:20260417T171500Z
DTEND:20260417T171500Z
CREATED:20260102T193732Z
LAST-MODIFIED:20260421T045336Z
SUMMARY:Booze Cruise - 2 Hr Booze Cruise ( booking: 1 2 Hour Booze Cruise)
LOCATION:
URL:https://fareharbor.com/harborviewcharters/dashboard/bookings/?overlay=/items/303295/availabilities/1958051359/
DESCRIPTION:BOOKING #342413059\n Ricky Bobek\n +1 708-380-1416\n Rickybobek1@gmail.com\n \n Total: $885.00\n Due: $0.00\n \n 1 2 Hour Booze Cruise\n # of people?: 13 \n occasion: Bachelor \n Gratuity: 1 \n ----------\n
END:VEVENT

BEGIN:VEVENT
SEQUENCE:1776747216
UID:https://fareharbor.com/api/v1/companies/harborviewcharters/items/303295/availabilities/1958051597/
DTSTART:20260425T193000Z
DTEND:20260425T193000Z
CREATED:20260102T193733Z
LAST-MODIFIED:20260421T045336Z
SUMMARY:Booze Cruise - 2 Hr Booze Cruise ( booking: 1 2 Hour Booze Cruise)
LOCATION:
URL:https://fareharbor.com/harborviewcharters/dashboard/bookings/?overlay=/items/303295/availabilities/1958051597/
DESCRIPTION:BOOKING #333898593\n Molly Kelso\n +1 843-485-1770\n lasttoastonthecoast2026@gmail.com\n \n Total: $885.00\n Due: $0.00\n \n 1 2 Hour Booze Cruise\n # of people?: 8 \n occasion: Bachelorette \n Gratuity: 1 \n ----------\n
END:VEVENT

BEGIN:VEVENT
SEQUENCE:1776747216
UID:https://fareharbor.com/api/v1/companies/harborviewcharters/items/303295/availabilities/1958051108/
DTSTART:20260502T193000Z
DTEND:20260502T193000Z
CREATED:20260102T193731Z
LAST-MODIFIED:20260421T045336Z
SUMMARY:Booze Cruise - 2 Hr Booze Cruise ( booking: 1 2 Hour Booze Cruise)
LOCATION:
URL:https://fareharbor.com/harborviewcharters/dashboard/bookings/?overlay=/items/303295/availabilities/1958051108/
DESCRIPTION:BOOKING #333095650\n Page fairington\n bretcurlett@yahoo.com\n \n Total: $885.00\n Due: $885.00\n \n Boat booker. Charge $600 at boarding\n\n 1 2 Hour Booze Cruise\n # of people?: 9 \n occasion: Bachelorette \n Gratuity: 1 \n ----------\n
END:VEVENT

BEGIN:VEVENT
SEQUENCE:1776747216
UID:https://fareharbor.com/api/v1/companies/harborviewcharters/items/303295/availabilities/1958051294/
DTSTART:20260503T150000Z
DTEND:20260503T150000Z
CREATED:20260102T193732Z
LAST-MODIFIED:20260421T045336Z
SUMMARY:Booze Cruise - 2 Hr Booze Cruise ( booking: 1 2 Hour Booze Cruise)
LOCATION:
URL:https://fareharbor.com/harborviewcharters/dashboard/bookings/?overlay=/items/303295/availabilities/1958051294/
DESCRIPTION:BOOKING #330481160\n Mario Bucciero\n +1 518-860-6973\n mj29bucc@alum.siena.edu\n \n Total: $767.00\n Due: $0.00\n \n 1 2 Hour Booze Cruise\n \n * 2 Hour Booze Cruise\n Promo Code - 2HR Tours/Cruises: Dolphin02 \n \n # of people?: 11 \n occasion: Bachelor \n Gratuity: 1 \n ----------\n
END:VEVENT

BEGIN:VEVENT
SEQUENCE:1776747216
UID:https://fareharbor.com/api/v1/companies/harborviewcharters/items/303295/availabilities/1958051025/
DTSTART:20260522T173000Z
DTEND:20260522T173000Z
CREATED:20260102T193731Z
LAST-MODIFIED:20260421T045336Z
SUMMARY:Booze Cruise - 3 & 4 Hr Booze Cruise ( booking: 1 3 Hour Booze Cruise)
LOCATION:
URL:https://fareharbor.com/harborviewcharters/dashboard/bookings/?overlay=/items/303295/availabilities/1958051025/
DESCRIPTION:BOOKING #328638537\n Jillian Bruno\n +1 609-846-5510\n jillbruno22@gmail.com\n \n Total: $1,298.00\n Due: $0.00\n \n 1 3 Hour Booze Cruise\n # of people?: 14 \n occasion: Bachelorette \n Gratuity: 1 \n ----------\n
END:VEVENT


END:VCALENDAR
